BEGIN:VCALENDAR
VERSION:2.0
PRODID:-//bizzConnect - ECPv5.16.3.1//NONSGML v1.0//EN
CALSCALE:GREGORIAN
METHOD:PUBLISH
X-WR-CALNAME:bizzConnect
X-ORIGINAL-URL:https://events.bizzconnect.io
X-WR-CALDESC:Events for bizzConnect
BEGIN:VTIMEZONE
TZID:UTC
BEGIN:STANDARD
TZOFFSETFROM:+0000
TZOFFSETTO:+0000
TZNAME:UTC
DTSTART:20220101T000000
END:STANDARD
END:VTIMEZONE
BEGIN:VEVENT
DTSTART;TZID=UTC:20221121T140000
DTEND;TZID=UTC:20221228T200000
DTSTAMP:20260426T002231
CREATED:20221024T055802Z
LAST-MODIFIED:20221226T155007Z
UID:20646-1669039200-1672257600@events.bizzconnect.io
SUMMARY:Forum recrutement virtuel ISD
DESCRIPTION:Disponible en  Français\navec les traducteurs de Chrome ou Edge\n \n \n  \nUne question pour organiser vos rendez-vous ?\nContacter Valérie – chargée des relations utilisateurs pour les rencontres B2B\n06 25 30 43 53 ou  event@bizzconnect.io
URL:https://events.bizzconnect.io/event/forum-recrutement-virtuel-isd/
CATEGORIES:Events
ORGANIZER;CN="Val%C3%A9rie":MAILTO:event@bizzconnect.io
END:VEVENT
END:VCALENDAR