BEGIN:VCALENDAR
VERSION:2.0
PRODID:-//bizzConnect - ECPv5.16.3.1//NONSGML v1.0//EN
CALSCALE:GREGORIAN
METHOD:PUBLISH
X-WR-CALNAME:bizzConnect
X-ORIGINAL-URL:https://events.bizzconnect.io
X-WR-CALDESC:Events for bizzConnect
BEGIN:VTIMEZONE
TZID:UTC
BEGIN:STANDARD
TZOFFSETFROM:+0000
TZOFFSETTO:+0000
TZNAME:UTC
DTSTART:20240101T000000
END:STANDARD
END:VTIMEZONE
BEGIN:VEVENT
DTSTART;TZID=UTC:20240705T090000
DTEND;TZID=UTC:20240712T190000
DTSTAMP:20260424T051904
CREATED:20240604T131849Z
LAST-MODIFIED:20240708T071854Z
UID:21214-1720170000-1720810800@events.bizzconnect.io
SUMMARY:ONLINE - RDV B2B AgriO - InnoTech Day
DESCRIPTION:Disponible en  Français\navec les traducteurs de Chrome ou Edge\n \n \n  \nUne question pour organiser vos rendez-vous ?\nContacter Olivier– chargée des relations utilisateurs pour les rencontres B2B\n06 87 79 02 66 event@bizzconnect.io
URL:https://events.bizzconnect.io/event/innotech-day-online-rdv-b2b/
CATEGORIES:Events,The Events
ATTACH;FMTTYPE=image/jpeg:https://events.bizzconnect.io/wp-content/uploads/2024/06/inrae.jpg
END:VEVENT
END:VCALENDAR