BEGIN:VCALENDAR
VERSION:2.0
PRODID:-//bizzConnect - ECPv5.16.3.1//NONSGML v1.0//EN
CALSCALE:GREGORIAN
METHOD:PUBLISH
X-WR-CALNAME:bizzConnect
X-ORIGINAL-URL:https://events.bizzconnect.io
X-WR-CALDESC:Events for bizzConnect
BEGIN:VTIMEZONE
TZID:UTC
BEGIN:STANDARD
TZOFFSETFROM:+0000
TZOFFSETTO:+0000
TZNAME:UTC
DTSTART:20250101T000000
END:STANDARD
END:VTIMEZONE
BEGIN:VEVENT
DTSTART;TZID=UTC:20251003T080000
DTEND;TZID=UTC:20251008T170000
DTSTAMP:20260423T055643
CREATED:20250930T153320Z
LAST-MODIFIED:20250930T153320Z
UID:21393-1759478400-1759942800@events.bizzconnect.io
SUMMARY:Online- RDV B2B - La rentrée d'Agri Sud Ouest Innovation
DESCRIPTION:Disponible en  Français\navec les traducteurs de Chrome ou Edge\n \n \n  \nUne question pour organiser vos rendez-vous ?\nContacter Olivier– chargée des relations utilisateurs pour les rencontres B2B\n06 87 79 02 66 event@bizzconnect.io
URL:https://events.bizzconnect.io/event/online-rdv-b2b-la-rentree-dagri-sud-ouest-innovation/
ATTACH;FMTTYPE=image/jpeg:https://events.bizzconnect.io/wp-content/uploads/2025/09/la-rentree-2.jpg
END:VEVENT
END:VCALENDAR