BEGIN:VCALENDAR
VERSION:2.0
PRODID:-//bizzConnect - ECPv5.16.3.1//NONSGML v1.0//EN
CALSCALE:GREGORIAN
METHOD:PUBLISH
X-WR-CALNAME:bizzConnect
X-ORIGINAL-URL:https://events.bizzconnect.io
X-WR-CALDESC:Events for bizzConnect
BEGIN:VTIMEZONE
TZID:UTC
BEGIN:STANDARD
TZOFFSETFROM:+0000
TZOFFSETTO:+0000
TZNAME:UTC
DTSTART:20220101T000000
END:STANDARD
END:VTIMEZONE
BEGIN:VEVENT
DTSTART;TZID=UTC:20221206T121500
DTEND;TZID=UTC:20230119T183000
DTSTAMP:20260421T223734
CREATED:20221114T144405Z
LAST-MODIFIED:20230120T110654Z
UID:20677-1670328900-1674153000@events.bizzconnect.io
SUMMARY:Journée Espace Aerospace Valley-RDV B2B-Présentiel
DESCRIPTION:Disponible en  Français\navec les traducteurs de Chrome ou Edge\n \n \n  \nUne question pour organiser vos rendez-vous ?\nContacter Valérie – chargée des relations utilisateurs pour les rencontres B2B\n06 25 30 43 53 ou  event@bizzconnect.io
URL:https://events.bizzconnect.io/event/presentiel-journee-espace-rdv-b2b/
LOCATION:ENAC 7 Av. Edouard Belin\, 31400 Toulouse\, 7 Av. Edouard Belin\, 31400 Toulouse
CATEGORIES:Events
ORGANIZER;CN="Val%C3%A9rie":MAILTO:event@bizzconnect.io
END:VEVENT
END:VCALENDAR