BEGIN:VCALENDAR
VERSION:2.0
PRODID:-//bizzConnect - ECPv5.16.3.1//NONSGML v1.0//EN
CALSCALE:GREGORIAN
METHOD:PUBLISH
X-WR-CALNAME:bizzConnect
X-ORIGINAL-URL:https://events.bizzconnect.io
X-WR-CALDESC:Events for bizzConnect
BEGIN:VTIMEZONE
TZID:UTC
BEGIN:STANDARD
TZOFFSETFROM:+0000
TZOFFSETTO:+0000
TZNAME:UTC
DTSTART:20240101T000000
END:STANDARD
END:VTIMEZONE
BEGIN:VEVENT
DTSTART;TZID=UTC:20240215T143000
DTEND;TZID=UTC:20240215T163000
DTSTAMP:20260424T100253
CREATED:20240126T151025Z
LAST-MODIFIED:20240625T095412Z
UID:21165-1708007400-1708014600@events.bizzconnect.io
SUMMARY:Rencontres Innovation Forêt-Bois : RDV B2B
DESCRIPTION:Disponible en  Français\navec les traducteurs de Chrome ou Edge\n \n \n  \nUne question pour organiser vos rendez-vous ?\nContacter Valérie – chargée des relations utilisateurs pour les rencontres B2B\n06 65 6168 81 ou  event@bizzconnect.io
URL:https://events.bizzconnect.io/event/rencontres-innovation-foret-bois-rdv-b2b/
CATEGORIES:Events,The Events
ATTACH;FMTTYPE=image/jpeg:https://events.bizzconnect.io/wp-content/uploads/2024/01/Sans-titre-1.jpg
END:VEVENT
END:VCALENDAR