BEGIN:VCALENDAR
VERSION:2.0
PRODID:-//bizzConnect - ECPv5.16.3.1//NONSGML v1.0//EN
CALSCALE:GREGORIAN
METHOD:PUBLISH
X-WR-CALNAME:bizzConnect
X-ORIGINAL-URL:https://events.bizzconnect.io
X-WR-CALDESC:Events for bizzConnect
BEGIN:VTIMEZONE
TZID:UTC
BEGIN:STANDARD
TZOFFSETFROM:+0000
TZOFFSETTO:+0000
TZNAME:UTC
DTSTART:20240101T000000
END:STANDARD
END:VTIMEZONE
BEGIN:VEVENT
DTSTART;TZID=UTC:20241223T080000
DTEND;TZID=UTC:20241223T170000
DTSTAMP:20260423T232449
CREATED:20240409T163306Z
LAST-MODIFIED:20240625T095236Z
UID:21182-1734940800-1734973200@events.bizzconnect.io
SUMMARY:test instance
DESCRIPTION:
URL:https://events.bizzconnect.io/event/test-instance/
CATEGORIES:Events,The Events
END:VEVENT
END:VCALENDAR