BEGIN:VCALENDAR
VERSION:2.0
PRODID:-//bizzConnect - ECPv5.16.3.1//NONSGML v1.0//EN
CALSCALE:GREGORIAN
METHOD:PUBLISH
X-WR-CALNAME:bizzConnect
X-ORIGINAL-URL:https://events.bizzconnect.io
X-WR-CALDESC:Events for bizzConnect
BEGIN:VTIMEZONE
TZID:UTC
BEGIN:STANDARD
TZOFFSETFROM:+0000
TZOFFSETTO:+0000
TZNAME:UTC
DTSTART:20220101T000000
END:STANDARD
END:VTIMEZONE
BEGIN:VEVENT
DTSTART;TZID=UTC:20221018T140000
DTEND;TZID=UTC:20221025T153000
DTSTAMP:20260426T033948
CREATED:20220922T062047Z
LAST-MODIFIED:20221103T112626Z
UID:20607-1666101600-1666711800@events.bizzconnect.io
SUMMARY:Présentiel- Xylodating Chimie – RDV  B2B
DESCRIPTION:Disponible en  anglais\navec les traducteurs de Chrome ou Edge\n \n \n  \nUne question pour organiser vos rendez-vous ?\nContacter Valérie – chargée des relations utilisateurs pour les rencontres B2B\n06 25 30 43 53 ou event @bizzconnect.io
URL:https://events.bizzconnect.io/event/presentiel-xylodating-chimie-rdv-b2b/
CATEGORIES:Events
ORGANIZER;CN="Val%C3%A9rie":MAILTO:event@bizzconnect.io
END:VEVENT
BEGIN:VEVENT
DTSTART;TZID=UTC:20221018T160000
DTEND;TZID=UTC:20221025T190000
DTSTAMP:20260426T033948
CREATED:20220922T063822Z
LAST-MODIFIED:20221103T112618Z
UID:20612-1666108800-1666724400@events.bizzconnect.io
SUMMARY:Online- Xylodating Chimie – RDV  B2B
DESCRIPTION:Disponible en  anglais\navec les traducteurs de Chrome ou Edge\n \n \n  \nUne question pour organiser vos rendez-vous ?\nContacter Valérie – chargée des relations utilisateurs pour les rencontres B2B\n06 25 30 43 53 ou event @bizzconnect.io
URL:https://events.bizzconnect.io/event/online-xylodating-chimie-rdv-b2b-2/
CATEGORIES:Events
ORGANIZER;CN="Val%C3%A9rie":MAILTO:event@bizzconnect.io
END:VEVENT
END:VCALENDAR