BEGIN:VCALENDAR
VERSION:2.0
PRODID:-//bizzConnect - ECPv5.16.3.1//NONSGML v1.0//EN
CALSCALE:GREGORIAN
METHOD:PUBLISH
X-WR-CALNAME:bizzConnect
X-ORIGINAL-URL:https://events.bizzconnect.io
X-WR-CALDESC:Events for bizzConnect
BEGIN:VTIMEZONE
TZID:UTC
BEGIN:STANDARD
TZOFFSETFROM:+0000
TZOFFSETTO:+0000
TZNAME:UTC
DTSTART:20250101T000000
END:STANDARD
END:VTIMEZONE
BEGIN:VEVENT
DTSTART;TZID=UTC:20251007T090000
DTEND;TZID=UTC:20251120T180000
DTSTAMP:20260423T055118
CREATED:20250530T114741Z
LAST-MODIFIED:20251114T073526Z
UID:21317-1759827600-1763661600@events.bizzconnect.io
SUMMARY:Mobility for business - RDV B2B
DESCRIPTION:Disponible en  Français\navec les traducteurs de Chrome ou Edge\n \n \n  \nUne question pour organiser vos rendez-vous ?\nContacter Olivier– chargé des relations utilisateurs pour les rencontres B2B\n06 87 79 02 66 event@bizzconnect.io
URL:https://events.bizzconnect.io/event/internal-test-event/
CATEGORIES:Events,The Events
ATTACH;FMTTYPE=image/jpeg:https://events.bizzconnect.io/wp-content/uploads/2025/05/mobility-for-business.jpg
ORGANIZER;CN="olivier":MAILTO:olivier@bizzconnect.io
END:VEVENT
BEGIN:VEVENT
DTSTART;TZID=UTC:20251007T090000
DTEND;TZID=UTC:20251120T180000
DTSTAMP:20260423T055118
CREATED:20250606T152715Z
LAST-MODIFIED:20251114T073508Z
UID:21329-1759827600-1763661600@events.bizzconnect.io
SUMMARY:Salons Solutions - RDV B2B
DESCRIPTION:Disponible en  Français\navec les traducteurs de Chrome ou Edge\n \n \n  \nUne question pour organiser vos rendez-vous ?\nContacter Olivier– chargé des relations utilisateurs pour les rencontres B2B\n06 87 79 02 66 event@bizzconnect.io
URL:https://events.bizzconnect.io/event/salon-solutions/
CATEGORIES:Events,The Events
ATTACH;FMTTYPE=image/jpeg:https://events.bizzconnect.io/wp-content/uploads/2025/06/SALONS-SOLUTIONS.jpg
ORGANIZER;CN="olivier":MAILTO:olivier@bizzconnect.io
END:VEVENT
END:VCALENDAR