BEGIN:VCALENDAR
VERSION:2.0
PRODID:-//bizzConnect - ECPv5.16.3.1//NONSGML v1.0//EN
CALSCALE:GREGORIAN
METHOD:PUBLISH
X-WR-CALNAME:bizzConnect
X-ORIGINAL-URL:https://events.bizzconnect.io
X-WR-CALDESC:Events for bizzConnect
BEGIN:VTIMEZONE
TZID:UTC
BEGIN:STANDARD
TZOFFSETFROM:+0000
TZOFFSETTO:+0000
TZNAME:UTC
DTSTART:20250101T000000
END:STANDARD
END:VTIMEZONE
BEGIN:VEVENT
DTSTART;TZID=UTC:20250410T172000
DTEND;TZID=UTC:20250423T124000
DTSTAMP:20260421T115914
CREATED:20250321T102217Z
LAST-MODIFIED:20250422T123141Z
UID:21294-1744305600-1745412000@events.bizzconnect.io
SUMMARY:Le printemps d'Agri Sud-Ouest Innovation
DESCRIPTION:Disponible en  Français\navec les traducteurs de Chrome ou Edge\n \n \n  \nUne question pour organiser vos rendez-vous ?\nContacter Olivier– chargé des relations utilisateurs pour les rencontres B2B\n06 87 79 02 66 event@bizzconnect.io
URL:https://events.bizzconnect.io/event/le-printemps-dagri-sud-ouest-innovation/
CATEGORIES:Events,The Events
ATTACH;FMTTYPE=image/jpeg:https://events.bizzconnect.io/wp-content/uploads/2025/03/logo-printemps-screen.jpg
ORGANIZER;CN="olivier":MAILTO:olivier@bizzconnect.io
END:VEVENT
END:VCALENDAR