BEGIN:VCALENDAR
VERSION:2.0
PRODID:-//bizzConnect - ECPv5.16.3.1//NONSGML v1.0//EN
CALSCALE:GREGORIAN
METHOD:PUBLISH
X-WR-CALNAME:bizzConnect
X-ORIGINAL-URL:https://events.bizzconnect.io
X-WR-CALDESC:Events for bizzConnect
BEGIN:VTIMEZONE
TZID:UTC
BEGIN:STANDARD
TZOFFSETFROM:+0000
TZOFFSETTO:+0000
TZNAME:UTC
DTSTART:20250101T000000
END:STANDARD
END:VTIMEZONE
BEGIN:VEVENT
DTSTART;TZID=UTC:20250703T154500
DTEND;TZID=UTC:20250710T173000
DTSTAMP:20260420T230527
CREATED:20250603T091839Z
LAST-MODIFIED:20250704T073218Z
UID:21323-1751557500-1752168600@events.bizzconnect.io
SUMMARY:Hub BPI France - RDV B2B AgriO - InnoTech Day
DESCRIPTION:Disponible en  Français\navec les traducteurs de Chrome ou Edge\n \n \n  \nUne question pour organiser vos rendez-vous ?\nContacter Olivier– chargée des relations utilisateurs pour les rencontres B2B\n06 87 79 02 66 event@bizzconnect.io
URL:https://events.bizzconnect.io/event/hub-bpi-france-rdv-b2b-agrio-innotech-day/
CATEGORIES:Events,The Events
ATTACH;FMTTYPE=image/jpeg:https://events.bizzconnect.io/wp-content/uploads/2024/06/inrae.jpg
END:VEVENT
BEGIN:VEVENT
DTSTART;TZID=UTC:20250703T160000
DTEND;TZID=UTC:20250710T180000
DTSTAMP:20260420T230527
CREATED:20250602T084907Z
LAST-MODIFIED:20250703T160442Z
UID:21320-1751558400-1752170400@events.bizzconnect.io
SUMMARY:Robotics Place DAY - B2B
DESCRIPTION:Disponible en  Français\navec les traducteurs de Chrome ou Edge\n \n \n  \nUne question pour organiser vos rendez-vous ?\nContacter Olivier– chargée des relations utilisateurs pour les rencontres B2B\n06 87 79 02 66 event@bizzconnect.io
URL:https://events.bizzconnect.io/event/robotics-place-day-rdv-b2b/
LOCATION:La cité
CATEGORIES:Events,The Events
ATTACH;FMTTYPE=image/png:https://events.bizzconnect.io/wp-content/uploads/2024/06/robotics-place-day-.png
ORGANIZER;CN="olivier":MAILTO:olivier@bizzconnect.io
END:VEVENT
END:VCALENDAR